BEGIN:VCALENDAR
VERSION:2.0
PRODID:-//GCAPP - ECPv6.15.20//NONSGML v1.0//EN
CALSCALE:GREGORIAN
METHOD:PUBLISH
X-ORIGINAL-URL:https://www.gcapp.org
X-WR-CALDESC:Events for GCAPP
REFRESH-INTERVAL;VALUE=DURATION:PT1H
X-Robots-Tag:noindex
X-PUBLISHED-TTL:PT1H
BEGIN:VTIMEZONE
TZID:America/New_York
BEGIN:DAYLIGHT
TZOFFSETFROM:-0500
TZOFFSETTO:-0400
TZNAME:EDT
DTSTART:20210314T070000
END:DAYLIGHT
BEGIN:STANDARD
TZOFFSETFROM:-0400
TZOFFSETTO:-0500
TZNAME:EST
DTSTART:20211107T060000
END:STANDARD
BEGIN:DAYLIGHT
TZOFFSETFROM:-0500
TZOFFSETTO:-0400
TZNAME:EDT
DTSTART:20220313T070000
END:DAYLIGHT
BEGIN:STANDARD
TZOFFSETFROM:-0400
TZOFFSETTO:-0500
TZNAME:EST
DTSTART:20221106T060000
END:STANDARD
BEGIN:DAYLIGHT
TZOFFSETFROM:-0500
TZOFFSETTO:-0400
TZNAME:EDT
DTSTART:20230312T070000
END:DAYLIGHT
BEGIN:STANDARD
TZOFFSETFROM:-0400
TZOFFSETTO:-0500
TZNAME:EST
DTSTART:20231105T060000
END:STANDARD
END:VTIMEZONE
BEGIN:VEVENT
DTSTART;TZID=America/New_York:20221110T180000
DTEND;TZID=America/New_York:20221110T223000
DTSTAMP:20260420T131327
CREATED:20220728T180009Z
LAST-MODIFIED:20221007T022805Z
UID:4657-1668103200-1668119400@www.gcapp.org
SUMMARY:Jane Fonda's 85th Birthday Celebration
DESCRIPTION:You Are Invited to a Very Special Evening!\n\n 
URL:https://www.gcapp.org/event/jane-fondas-85th-birthday-celebration/
CATEGORIES:Events Grid,Events List,Upcoming Event
ATTACH;FMTTYPE=image/png:https://www.gcapp.org/wp-content/uploads/2022/08/Janes-current-headshot.png
END:VEVENT
END:VCALENDAR