BEGIN:VCALENDAR
VERSION:2.0
PRODID:-//GCAPP - ECPv6.15.20//NONSGML v1.0//EN
CALSCALE:GREGORIAN
METHOD:PUBLISH
X-ORIGINAL-URL:https://www.gcapp.org
X-WR-CALDESC:Events for GCAPP
REFRESH-INTERVAL;VALUE=DURATION:PT1H
X-Robots-Tag:noindex
X-PUBLISHED-TTL:PT1H
BEGIN:VTIMEZONE
TZID:America/New_York
BEGIN:DAYLIGHT
TZOFFSETFROM:-0500
TZOFFSETTO:-0400
TZNAME:EDT
DTSTART:20210314T070000
END:DAYLIGHT
BEGIN:STANDARD
TZOFFSETFROM:-0400
TZOFFSETTO:-0500
TZNAME:EST
DTSTART:20211107T060000
END:STANDARD
BEGIN:DAYLIGHT
TZOFFSETFROM:-0500
TZOFFSETTO:-0400
TZNAME:EDT
DTSTART:20220313T070000
END:DAYLIGHT
BEGIN:STANDARD
TZOFFSETFROM:-0400
TZOFFSETTO:-0500
TZNAME:EST
DTSTART:20221106T060000
END:STANDARD
BEGIN:DAYLIGHT
TZOFFSETFROM:-0500
TZOFFSETTO:-0400
TZNAME:EDT
DTSTART:20230312T070000
END:DAYLIGHT
BEGIN:STANDARD
TZOFFSETFROM:-0400
TZOFFSETTO:-0500
TZNAME:EST
DTSTART:20231105T060000
END:STANDARD
END:VTIMEZONE
BEGIN:VEVENT
DTSTART;TZID=America/New_York:20221116T080000
DTEND;TZID=America/New_York:20221116T103000
DTSTAMP:20260420T182713
CREATED:20221103T191149Z
LAST-MODIFIED:20221103T191149Z
UID:5310-1668585600-1668594600@www.gcapp.org
SUMMARY:Ware County Community Conversation
DESCRIPTION:Community leaders in Ware County and the Georgia Campaign for Adolescent Power & Potential invite you to participate in a Community Conversation around the health and wellness of youth in Ware County. Adolescence is often tough for young people under the best of circumstances and our youth deserve the best we have to offer\, especially in these difficult times.\n  \nDate: Wednesday\, November 16\n\nTime: Breakfast at 8:00; Meeting 8:30 – 10:30\nLocation:  ActionPact Training Room\,\n510 Tebeau Street\, Waycross\, Georgia\nREGISTER HERE\n  \n\nAll are invited to take part in this Community Conversation—community leaders\, youth-serving professionals and community organizations\, health professionals\, parents\, advocates\, and anyone interested in improving the well-being of our young people.  GCAPP\, with programs in youth empowerment\, comprehensive sex ed\, teen pregnancy prevention\, parent engagement\, and physical activity & nutrition\, has convened Community Conversations in communities throughout the state around adolescent health and social wellness over the last four years\, and partners with communities to implement proven\, sustainable programs and strategies that address adolescents’ overall well-being.
URL:https://www.gcapp.org/event/ware-county-community-conversation/
LOCATION:ActionPact Training Room\, 510 Tebeau Street\, Waycross\, Georgia
CATEGORIES:Events Grid,Events List,Upcoming Event
ATTACH;FMTTYPE=image/jpeg:https://www.gcapp.org/wp-content/uploads/2021/10/shutterstock_561483190-scaled.jpg
END:VEVENT
END:VCALENDAR